BEGIN:VCALENDAR
VERSION:2.0
PRODID:-//Clavister - ECPv6.15.20//NONSGML v1.0//EN
CALSCALE:GREGORIAN
METHOD:PUBLISH
X-WR-CALNAME:Clavister
X-ORIGINAL-URL:https://www.clavister.com
X-WR-CALDESC:Events for Clavister
REFRESH-INTERVAL;VALUE=DURATION:PT1H
X-Robots-Tag:noindex
X-PUBLISHED-TTL:PT1H
BEGIN:VTIMEZONE
TZID:Europe/Stockholm
BEGIN:DAYLIGHT
TZOFFSETFROM:+0100
TZOFFSETTO:+0200
TZNAME:CEST
DTSTART:20250330T010000
END:DAYLIGHT
BEGIN:STANDARD
TZOFFSETFROM:+0200
TZOFFSETTO:+0100
TZNAME:CET
DTSTART:20251026T010000
END:STANDARD
BEGIN:DAYLIGHT
TZOFFSETFROM:+0100
TZOFFSETTO:+0200
TZNAME:CEST
DTSTART:20260329T010000
END:DAYLIGHT
BEGIN:STANDARD
TZOFFSETFROM:+0200
TZOFFSETTO:+0100
TZNAME:CET
DTSTART:20261025T010000
END:STANDARD
BEGIN:DAYLIGHT
TZOFFSETFROM:+0100
TZOFFSETTO:+0200
TZNAME:CEST
DTSTART:20270328T010000
END:DAYLIGHT
BEGIN:STANDARD
TZOFFSETFROM:+0200
TZOFFSETTO:+0100
TZNAME:CET
DTSTART:20271031T010000
END:STANDARD
END:VTIMEZONE
BEGIN:VEVENT
DTSTART;VALUE=DATE:20260908
DTEND;VALUE=DATE:20260912
DTSTAMP:20260424T161847
CREATED:20260424T065930Z
LAST-MODIFIED:20260424T070239Z
UID:10590-1788825600-1789171199@www.clavister.com
SUMMARY:MSPO 2026
DESCRIPTION:Clavister will be attending MSPO – International Defence Industry Exhibition 2026 in Kielce\, Poland. \nMSPO is one of Europe’s most important defence industry events and the largest in Central and Eastern Europe\, bringing together military leaders\, government representatives and international industry players. \nHeld annually at Targi Kielce\, the exhibition serves as a key platform for showcasing advanced defence technologies\, fostering international cooperation and shaping the future of security across domains such as land\, air\, maritime\, cyber and IT. \nWith hundreds of exhibitors\, official delegations and tens of thousands of visitors\, MSPO provides a unique environment for strategic dialogue\, innovation and business development in the defence sector. \nMeet us onsite to discuss how Clavister’s cybersecurity solutions support secure and resilient operations in mission-critical defence environments.
URL:https://www.clavister.com/event/10590/
LOCATION:Targi Kielce\, Poland
END:VEVENT
END:VCALENDAR