BEGIN:VCALENDAR
VERSION:2.0
PRODID:-//Clavister - ECPv6.15.20//NONSGML v1.0//EN
CALSCALE:GREGORIAN
METHOD:PUBLISH
X-WR-CALNAME:Clavister
X-ORIGINAL-URL:https://www.clavister.com
X-WR-CALDESC:Events for Clavister
REFRESH-INTERVAL;VALUE=DURATION:PT1H
X-Robots-Tag:noindex
X-PUBLISHED-TTL:PT1H
BEGIN:VTIMEZONE
TZID:Europe/Stockholm
BEGIN:DAYLIGHT
TZOFFSETFROM:+0100
TZOFFSETTO:+0200
TZNAME:CEST
DTSTART:20250330T010000
END:DAYLIGHT
BEGIN:STANDARD
TZOFFSETFROM:+0200
TZOFFSETTO:+0100
TZNAME:CET
DTSTART:20251026T010000
END:STANDARD
BEGIN:DAYLIGHT
TZOFFSETFROM:+0100
TZOFFSETTO:+0200
TZNAME:CEST
DTSTART:20260329T010000
END:DAYLIGHT
BEGIN:STANDARD
TZOFFSETFROM:+0200
TZOFFSETTO:+0100
TZNAME:CET
DTSTART:20261025T010000
END:STANDARD
BEGIN:DAYLIGHT
TZOFFSETFROM:+0100
TZOFFSETTO:+0200
TZNAME:CEST
DTSTART:20270328T010000
END:DAYLIGHT
BEGIN:STANDARD
TZOFFSETFROM:+0200
TZOFFSETTO:+0100
TZNAME:CET
DTSTART:20271031T010000
END:STANDARD
END:VTIMEZONE
BEGIN:VEVENT
DTSTART;VALUE=DATE:20260611
DTEND;VALUE=DATE:20260612
DTSTAMP:20260424T161041
CREATED:20260424T070209Z
LAST-MODIFIED:20260424T071111Z
UID:10593-1781136000-1781222399@www.clavister.com
SUMMARY:ALLNET ICT Solution Day 2026
DESCRIPTION:Clavister will be attending ALLNET ICT Solution Day 2026 in Munich\, Germany. \nALLNET ICT Solution Day is a key industry event bringing together technology providers\, partners and professionals across networking\, IT security\, communications and IoT. The event provides a platform to explore how modern IT solutions enable secure\, scalable and high-performance digital environments. \nWith a strong focus on topics such as enterprise networks\, wireless infrastructure and cybersecurity\, the event offers valuable opportunities for knowledge sharing\, collaboration and business development across the European ICT ecosystem. \nMeet us onsite to discuss how Clavister’s cybersecurity solutions support secure digitalisation and resilient network environments.
URL:https://www.clavister.com/event/allnet-ict-solution-day-2026/
LOCATION:Munich\, Germany
ATTACH;FMTTYPE=image/jpeg:https://www.clavister.com/wp-content/uploads/2026/04/ICT2026_Webhero-scaled.jpg
END:VEVENT
END:VCALENDAR