BEGIN:VCALENDAR
VERSION:2.0
PRODID:-//Clavister - ECPv6.15.20//NONSGML v1.0//EN
CALSCALE:GREGORIAN
METHOD:PUBLISH
X-WR-CALNAME:Clavister
X-ORIGINAL-URL:https://www.clavister.com
X-WR-CALDESC:Events for Clavister
REFRESH-INTERVAL;VALUE=DURATION:PT1H
X-Robots-Tag:noindex
X-PUBLISHED-TTL:PT1H
BEGIN:VTIMEZONE
TZID:Europe/Stockholm
BEGIN:DAYLIGHT
TZOFFSETFROM:+0100
TZOFFSETTO:+0200
TZNAME:CEST
DTSTART:20250330T010000
END:DAYLIGHT
BEGIN:STANDARD
TZOFFSETFROM:+0200
TZOFFSETTO:+0100
TZNAME:CET
DTSTART:20251026T010000
END:STANDARD
BEGIN:DAYLIGHT
TZOFFSETFROM:+0100
TZOFFSETTO:+0200
TZNAME:CEST
DTSTART:20260329T010000
END:DAYLIGHT
BEGIN:STANDARD
TZOFFSETFROM:+0200
TZOFFSETTO:+0100
TZNAME:CET
DTSTART:20261025T010000
END:STANDARD
BEGIN:DAYLIGHT
TZOFFSETFROM:+0100
TZOFFSETTO:+0200
TZNAME:CEST
DTSTART:20270328T010000
END:DAYLIGHT
BEGIN:STANDARD
TZOFFSETFROM:+0200
TZOFFSETTO:+0100
TZNAME:CET
DTSTART:20271031T010000
END:STANDARD
END:VTIMEZONE
BEGIN:VEVENT
DTSTART;VALUE=DATE:20260622
DTEND;VALUE=DATE:20260627
DTSTAMP:20260424T160333
CREATED:20260424T071317Z
LAST-MODIFIED:20260424T071317Z
UID:10608-1782086400-1782518399@www.clavister.com
SUMMARY:Almedalsveckan
DESCRIPTION:Clavister will be attending Almedalsveckan 2026 in Visby\, Sweden. \nAlmedalsveckan is Sweden’s leading democratic forum\, bringing together politicians\, business leaders\, public sector organisations and industry to discuss key societal challenges and future priorities. Held annually in Visby\, the event creates a unique platform for dialogue\, knowledge sharing and collaboration across sectors. \nWith thousands of seminars\, discussions and networking opportunities\, Almedalsveckan plays a central role in shaping conversations around security\, digitalisation and societal resilience in Sweden and across Europe. \nMeet us onsite to discuss how Clavister’s cybersecurity solutions support secure and resilient digital societies in an increasingly complex threat landscape.
URL:https://www.clavister.com/event/almedalsveckan/
LOCATION:Visby\, Sweden
ATTACH;FMTTYPE=image/jpeg:https://www.clavister.com/wp-content/uploads/2026/04/Almedalsveckan2026_Webhero-scaled.jpg
END:VEVENT
END:VCALENDAR