BEGIN:VCALENDAR
VERSION:2.0
PRODID:-//Clavister - ECPv6.15.20//NONSGML v1.0//EN
CALSCALE:GREGORIAN
METHOD:PUBLISH
X-WR-CALNAME:Clavister
X-ORIGINAL-URL:https://www.clavister.com
X-WR-CALDESC:Events for Clavister
REFRESH-INTERVAL;VALUE=DURATION:PT1H
X-Robots-Tag:noindex
X-PUBLISHED-TTL:PT1H
BEGIN:VTIMEZONE
TZID:Europe/Stockholm
BEGIN:DAYLIGHT
TZOFFSETFROM:+0100
TZOFFSETTO:+0200
TZNAME:CEST
DTSTART:20250330T010000
END:DAYLIGHT
BEGIN:STANDARD
TZOFFSETFROM:+0200
TZOFFSETTO:+0100
TZNAME:CET
DTSTART:20251026T010000
END:STANDARD
BEGIN:DAYLIGHT
TZOFFSETFROM:+0100
TZOFFSETTO:+0200
TZNAME:CEST
DTSTART:20260329T010000
END:DAYLIGHT
BEGIN:STANDARD
TZOFFSETFROM:+0200
TZOFFSETTO:+0100
TZNAME:CET
DTSTART:20261025T010000
END:STANDARD
BEGIN:DAYLIGHT
TZOFFSETFROM:+0100
TZOFFSETTO:+0200
TZNAME:CEST
DTSTART:20270328T010000
END:DAYLIGHT
BEGIN:STANDARD
TZOFFSETFROM:+0200
TZOFFSETTO:+0100
TZNAME:CET
DTSTART:20271031T010000
END:STANDARD
END:VTIMEZONE
BEGIN:VEVENT
DTSTART;VALUE=DATE:20260819
DTEND;VALUE=DATE:20260821
DTSTAMP:20260424T155525
CREATED:20260424T065731Z
LAST-MODIFIED:20260424T065731Z
UID:10587-1787097600-1787270399@www.clavister.com
SUMMARY:DALO Industry Days 2026
DESCRIPTION:Clavister will be attending DALO Industry Days 2026 in Herning\, Denmark. \nDALO Industry Days is a key meeting place for the defence sector\, bringing together the Danish Armed Forces\, DALO and leading national and international industry players. The event supports the Ministry of Defence’s “Open for Business” strategy and provides a platform for collaboration across land\, maritime\, air & space\, cyber and security domains. \nTaking place at MCH Messecenter Herning\, the event offers strong opportunities for knowledge sharing\, networking and international engagement. \nMeet us onsite to discuss how Clavister’s cybersecurity solutions support secure and resilient operations in mission-critical defence environments.
URL:https://www.clavister.com/event/dalo-industry-days-2026/
LOCATION:MCH Messecenter Herning\, Denmark
END:VEVENT
END:VCALENDAR