BEGIN:VCALENDAR
VERSION:2.0
PRODID:-//Clavister - ECPv6.15.20//NONSGML v1.0//EN
CALSCALE:GREGORIAN
METHOD:PUBLISH
X-WR-CALNAME:Clavister
X-ORIGINAL-URL:https://www.clavister.com
X-WR-CALDESC:Events for Clavister
REFRESH-INTERVAL;VALUE=DURATION:PT1H
X-Robots-Tag:noindex
X-PUBLISHED-TTL:PT1H
BEGIN:VTIMEZONE
TZID:Europe/Stockholm
BEGIN:DAYLIGHT
TZOFFSETFROM:+0100
TZOFFSETTO:+0200
TZNAME:CEST
DTSTART:20250330T010000
END:DAYLIGHT
BEGIN:STANDARD
TZOFFSETFROM:+0200
TZOFFSETTO:+0100
TZNAME:CET
DTSTART:20251026T010000
END:STANDARD
BEGIN:DAYLIGHT
TZOFFSETFROM:+0100
TZOFFSETTO:+0200
TZNAME:CEST
DTSTART:20260329T010000
END:DAYLIGHT
BEGIN:STANDARD
TZOFFSETFROM:+0200
TZOFFSETTO:+0100
TZNAME:CET
DTSTART:20261025T010000
END:STANDARD
BEGIN:DAYLIGHT
TZOFFSETFROM:+0100
TZOFFSETTO:+0200
TZNAME:CEST
DTSTART:20270328T010000
END:DAYLIGHT
BEGIN:STANDARD
TZOFFSETFROM:+0200
TZOFFSETTO:+0100
TZNAME:CET
DTSTART:20271031T010000
END:STANDARD
END:VTIMEZONE
BEGIN:VEVENT
DTSTART;VALUE=DATE:20260512
DTEND;VALUE=DATE:20260514
DTSTAMP:20260424T161805
CREATED:20260424T070921Z
LAST-MODIFIED:20260424T070921Z
UID:10602-1778544000-1778716799@www.clavister.com
SUMMARY:INFO ERFA
DESCRIPTION:Clavister will be attending INFO/ERFA 2026 in Norway. \nINFO/ERFA is one of Norway’s most important meeting forums for the defence sector\, bringing together the Armed Forces\, government stakeholders and the defence industry. The conference provides a unique platform for dialogue and collaboration across all levels\, supporting the development of future defence capabilities. \nThe event focuses on key topics such as security\, innovation and the evolving defence landscape\, with particular emphasis on cooperation between civilian and military actors within the total defence framework. \nMeet us onsite to discuss how Clavister’s cybersecurity solutions support secure and resilient operations in mission-critical defence environments.
URL:https://www.clavister.com/event/info-erfa/
LOCATION:Sundvolden Hotel\, Norway
ATTACH;FMTTYPE=image/jpeg:https://www.clavister.com/wp-content/uploads/2026/04/InfoErfa_Webhero-scaled.jpg
END:VEVENT
END:VCALENDAR