BEGIN:VCALENDAR
VERSION:2.0
PRODID:-//Clavister - ECPv6.15.20//NONSGML v1.0//EN
CALSCALE:GREGORIAN
METHOD:PUBLISH
X-WR-CALNAME:Clavister
X-ORIGINAL-URL:https://www.clavister.com
X-WR-CALDESC:Events for Clavister
REFRESH-INTERVAL;VALUE=DURATION:PT1H
X-Robots-Tag:noindex
X-PUBLISHED-TTL:PT1H
BEGIN:VTIMEZONE
TZID:Europe/Stockholm
BEGIN:DAYLIGHT
TZOFFSETFROM:+0100
TZOFFSETTO:+0200
TZNAME:CEST
DTSTART:20250330T010000
END:DAYLIGHT
BEGIN:STANDARD
TZOFFSETFROM:+0200
TZOFFSETTO:+0100
TZNAME:CET
DTSTART:20251026T010000
END:STANDARD
BEGIN:DAYLIGHT
TZOFFSETFROM:+0100
TZOFFSETTO:+0200
TZNAME:CEST
DTSTART:20260329T010000
END:DAYLIGHT
BEGIN:STANDARD
TZOFFSETFROM:+0200
TZOFFSETTO:+0100
TZNAME:CET
DTSTART:20261025T010000
END:STANDARD
BEGIN:DAYLIGHT
TZOFFSETFROM:+0100
TZOFFSETTO:+0200
TZNAME:CEST
DTSTART:20270328T010000
END:DAYLIGHT
BEGIN:STANDARD
TZOFFSETFROM:+0200
TZOFFSETTO:+0100
TZNAME:CET
DTSTART:20271031T010000
END:STANDARD
END:VTIMEZONE
BEGIN:VEVENT
DTSTART;VALUE=DATE:20260428
DTEND;VALUE=DATE:20260430
DTSTAMP:20260421T143523
CREATED:20260420T141902Z
LAST-MODIFIED:20260420T141902Z
UID:10552-1777334400-1777507199@www.clavister.com
SUMMARY:OT Konferansen
DESCRIPTION:Clavister will be attending OT Konferansen 2026 in Stavanger\, Norway. \nOT Konferansen is a key meeting place for organisations managing complex and business-critical OT environments in Norway. The conference brings together industry leaders\, public sector stakeholders and technology providers to share insights on digitalisation\, cybersecurity and efficient operations. \nThrough presentations and real-world case discussions\, participants gain a deeper understanding of how industries are addressing current challenges and preparing for future demands in increasingly connected OT landscapes. \nThe event also provides a strong platform for networking and collaboration across sectors\, supporting knowledge exchange and the development of more resilient operational environments.
URL:https://www.clavister.com/event/ot-konferansen/
LOCATION:Clarion hotel Air – Sola\, Norway
ATTACH;FMTTYPE=image/jpeg:https://www.clavister.com/wp-content/uploads/2026/04/OT-konferensen2026_Webhero-scaled.jpg
END:VEVENT
END:VCALENDAR